BEGIN:VCALENDAR

VERSION:2.0

PRODID:-//hacksw/handcal//NONSGML v1.0//EN

BEGIN:VEVENT

UID:a67c6f5462f9f3e50f687b9b6342250a

DTSTAMP:20260421T111116Z

DTSTART:20260422T100000

DTEND:20260422T103000

SUMMARY:R2-4928645 - 4/87-89 Duporth Avenue, Maroochydore QLD 4558

LOCATION:4/87-89 Duporth Avenue, Maroochydore QLD 4558

END:VEVENT

END:VCALENDAR