BEGIN:VCALENDAR

VERSION:2.0

PRODID:-//hacksw/handcal//NONSGML v1.0//EN

BEGIN:VEVENT

UID:fe554155a570adf422a41fb7e45260c2

DTSTAMP:20260421T110645Z

DTSTART:20260422T110000

DTEND:20260422T113000

SUMMARY:R2-4924474 - 20 Sarina Place, Maroochydore QLD 4558

LOCATION:20 Sarina Place, Maroochydore QLD 4558

END:VEVENT

END:VCALENDAR