BEGIN:VCALENDAR

VERSION:2.0

PRODID:-//hacksw/handcal//NONSGML v1.0//EN

BEGIN:VEVENT

UID:c4402a0fa4ffec0160888067b65221c1

DTSTAMP:20260421T110512Z

DTSTART:20260423T100000

DTEND:20260423T103000

SUMMARY:R2-4600694 - 21/26-28 Picnic Point Esplanade, Maroochydore QLD 4558

LOCATION:21/26-28 Picnic Point Esplanade, Maroochydore QLD 4558

END:VEVENT

END:VCALENDAR