BEGIN:VCALENDAR

VERSION:2.0

PRODID:-//hacksw/handcal//NONSGML v1.0//EN

BEGIN:VEVENT

UID:5444f34dc32b71aafe89562ddd1bfdc5

DTSTAMP:20260421T110311Z

DTSTART:20260423T120000

DTEND:20260423T123000

SUMMARY:R2-4910880 - 10 Glenlea Drive, Maroochydore QLD 4558

LOCATION:10 Glenlea Drive, Maroochydore QLD 4558

END:VEVENT

END:VCALENDAR