BEGIN:VCALENDAR

VERSION:2.0

PRODID:-//hacksw/handcal//NONSGML v1.0//EN

BEGIN:VEVENT

UID:2f2ed05da943f1dbab6d27ca4fe86eed

DTSTAMP:20260421T110738Z

DTSTART:20260423T140000

DTEND:20260423T143000

SUMMARY:R2-4948241 - 14A/120-122 Duporth Avenue, Maroochydore QLD 4558

LOCATION:14A/120-122 Duporth Avenue, Maroochydore QLD 4558

END:VEVENT

END:VCALENDAR