BEGIN:VCALENDAR

VERSION:2.0

PRODID:-//hacksw/handcal//NONSGML v1.0//EN

BEGIN:VEVENT

UID:f90513da4d172b157145cecfe17e3238

DTSTAMP:20260421T110634Z

DTSTART:20260423T110000

DTEND:20260423T113000

SUMMARY:R2-5010695 - 33 Broadsea Avenue, Maroochydore QLD 4558

LOCATION:33 Broadsea Avenue, Maroochydore QLD 4558

END:VEVENT

END:VCALENDAR