BEGIN:VCALENDAR

VERSION:2.0

PRODID:-//hacksw/handcal//NONSGML v1.0//EN

BEGIN:VEVENT

UID:e7c2941e5e72f2ed418cfd9a79545ea5

DTSTAMP:20260421T111238Z

DTSTART:20260423T150000

DTEND:20260423T153000

SUMMARY:R2-5046891 - 29/139-141 Bradman Avenue, Maroochydore QLD 4558

LOCATION:29/139-141 Bradman Avenue, Maroochydore QLD 4558

END:VEVENT

END:VCALENDAR