BEGIN:VCALENDAR

VERSION:2.0

PRODID:-//hacksw/handcal//NONSGML v1.0//EN

BEGIN:VEVENT

UID:67c78c18ad425f16175b2aa3505cef00

DTSTAMP:20260419T154719Z

DTSTART:20260423T160000

DTEND:20260423T161500

SUMMARY:IRE5967233 - 61/150 Duporth Avenue, Maroochydore QLD 4558

LOCATION:61/150 Duporth Avenue, Maroochydore QLD 4558

END:VEVENT

END:VCALENDAR